BEGIN:VCALENDAR
VERSION:2.0
PRODID:eintopf.info
METHOD:REQUEST
BEGIN:VEVENT
UID:8eb857c9-2ae1-482f-9d41-e33e013edcfe
SUMMARY:Nachhaltige Stadttour in Stuttgart-West
DTSTART:20250607T103000Z
URL:https://eintopf.info/event/8eb857c9-2ae1-482f-9d41-e33e013edcfe
CATEGORIES:Workshop\,Sonstiges
DESCRIPTION:Kommt mit auf Entdeckungstour durch Stuttgart-West! Gemeinsam
  lernen wir Initiativen & Läden kennen\, die Möglichkeiten für einen
  nachhaltigen Lebensstil bieten: Teilen\, unverpackt einkaufen oder
  Lebensmittel vor der Mülltonne retten. Wir zeigen euch\, wie stylisch
  geliehene Mode sein kann\, wo ihr Lastenräder leihen oder einen fairen
  Kaffee trinken könnt. Unterwegs tauschen wir im Gespräch Tipps für
  einen nachhaltigen Alltag und Engagement.\n\nDie Junge Plattform „Wir
  ernten\, was wir säen“ der Nachhaltigkeitsstrategie Baden-Württemberg
  lädt euch am 07. Juni 2025 um 12.30 Uhr zur zweistündigen nachhaltigen
  Stadttour ein – los geht’s bei der Raupe Immersatt\, wo wir die Tour
  auch wieder beenden.\n\nDie Tour ist auf maximal 15 Personen ausgelegt
  – eine Anmeldung ist nicht möglich\, kommt einfach vorbei.
LOCATION:Raupe Immersatt\, Johannesstraße 97\, Stuttgart
GEO:48.782018;9.1579717
ORGANIZER:mailto:Raupe Immersatt
END:VEVENT
END:VCALENDAR
