BEGIN:VCALENDAR
VERSION:2.0
PRODID:eintopf.info
METHOD:REQUEST
BEGIN:VEVENT
UID:8e8afdab-7b1d-40f7-9a92-1a8104153650
SUMMARY:Plenum
DTSTART:20241029T180000Z
URL:https://eintopf.info/event/8e8afdab-7b1d-40f7-9a92-1a8104153650
DTEND:20241029T200000Z
CATEGORIES:Offenes Treffen\,Klimagerechtigkeit
DESCRIPTION:
LOCATION:Linkes Zentrum Lilo Herrmann\, Böblinger Straße 105\, 70199
  Stuttgart
GEO:48.7618266;9.1567994
ORGANIZER:mailto:Aktionstreffen Klimagerechtigkeit 
END:VEVENT
END:VCALENDAR
