BEGIN:VCALENDAR
VERSION:2.0
PRODID:eintopf.info
METHOD:REQUEST
BEGIN:VEVENT
UID:8d236cdf-f69a-4fb1-a781-96d898622d13
SUMMARY:Vortrag: Obdachlosenhass und Sozialdarwinismus
DTSTART:20241203T180000Z
URL:https://eintopf.info/event/8d236cdf-f69a-4fb1-a781-96d898622d13
CATEGORIES:Vortrag\,Sonstiges
DESCRIPTION:Wohnungs- und Obdachlose werden von der
  Gesellschaft\nausgegrenzt und auf der Straße angegriffen.
  Die\nTäter*innen praktizieren dabei gegen obdachlose Men- schen einen
  Sozialdarwinismus der Tat\, der durch ein\nWeltbild vorbereitet wird\,
  welches weit verbreitet ist. Was Sozialdarwinismus ist\, wie dieser mit
  Hass und Feindlichkeit gegenüber wohnungslosen Menschen zusammenhängt
  und welche Rolle dies in den deutschen Zuständen spielt\, wird in diesem
  Vortrag erklärt. \n\nLucius Teidelbaum ist freier Journalist\, Publizist
  und Rechercheur zum Thema extreme Rechte und anliegende Grauzonen. Von
  ihm erschien 2013 im Unrast-Verlag das Buch „Obdachlosenhass und
  Sozialdarwinismus“. \n\nDas organisierende Kollektiv versucht den Blick
  immer wieder auf soziale Missstände zu lenken und insbesondere auf
  Menschen\, die von der Gesellschaft und der herrschen- den Politik
  ausgeschlossen werden. Da Obdachlosigkeit eine der extremsten Formen der
  Armut in Deutschland darstellt und immer noch gesellschaftlich mit
  individuellem Versagen verknüpft wird\, braucht es mehr Aufklärung
  über\ndie Zusammenhänge neoliberaler\, rechter und
  sozialdarwinistischer Rhetorik und der Abwertung und Ausgrenzung
  wohnungsloser Menschen. Dass Menschen gezwungen sind auf der Straße
  oder in Notunterkünften zu schlafen\, ist ein nicht hinnehmbarer
  Zustand. Wir müssen ALLE Menschen\nin unsere Kämpfe einschließen\,
  denn solange es Wohn- ungslosigkeit gibt\, kann es kein gutes Leben für
  alle geben!
LOCATION:Stadtteilzentrum Gasparitsch\, Rotenbergstr. 125\, 70190 Stuttgart
GEO:48.788058;9.2116285
ORGANIZER:mailto:Sozial, radikal, gegens Kapital
END:VEVENT
END:VCALENDAR
