BEGIN:VCALENDAR
VERSION:2.0
PRODID:eintopf.info
METHOD:REQUEST
BEGIN:VEVENT
UID:8b41c7e4-eab4-4e07-8a1f-a79257db960a
SUMMARY:Reclaim the hood! Hip-Hop Konzert
DTSTART:20240406T170000Z
URL:https://eintopf.info/event/8b41c7e4-eab4-4e07-8a1f-a79257db960a
DESCRIPTION:Live on Stage:\n- GUSY\n- BENJO\n- ORCUS EDEN\n- CRASH BUNDY\n-
  BENNY REDICK\n- DJ LOWZ\n\n## Reclaim the hood – reclaim Stuttgart ##
  \n\nUnsere Hood\, unsere Wohnungen\, unsere Spaces!\n\nWährend es
  überall an Wohnraum und Räumen zum Austausch fehlt\, ist mitten in
  Stuttgart-Ost mit dem EnBW-Areal eine Industriebrache. Ursprünglich
  geplant als neues Vorzeigeprojekt\, möchte die EnBW das Projekt nicht
  weiter bauen\, weil es zu wenig Gewinn abwerfen würde. Damit ist es
  eines von vielen Projekten bei denen deutlich gemacht wird: Der Profit
  steht über dem Menschen!\n\nZeit dagegen vorzugehen: Denn wir brauchen
  dringend Wohnungen\, Proberäume und Spaces für uns. Nehmen wir unsere
  Hood und unsere Stadt zurück.\nEs ist Zeit für Veränderung\, und wir
  sind hier\, um sie einzuleiten.\n\nOrganisiert vom Stadtteilclub Ostend
  und Low711
LOCATION:Stadtteilzentrum Gasparitsch\, Rotenbergstr. 125\, 70190 Stuttgart
GEO:48.788058;9.2116285
ORGANIZER:mailto:organisierte autonomie Stuttgart
END:VEVENT
END:VCALENDAR
