BEGIN:VCALENDAR
VERSION:2.0
PRODID:eintopf.info
METHOD:REQUEST
BEGIN:VEVENT
UID:89f57150-ce17-465a-af55-dd799231ace8
SUMMARY:Nach dem Scheitern von Realsozialismus und Kapitalismus:
  Demokratische Wirtschaftsplanung für ein Gutes Leben für alle in
  Planetaren Grenzen
DTSTART:20260115T183000Z
URL:https://eintopf.info/event/89f57150-ce17-465a-af55-dd799231ace8
CATEGORIES:Vortrag\,Politische Ökonomie
DESCRIPTION:
LOCATION:Stiftung Geißstraße 7\, Geißstraße 7\, 70173 Stuttgart
GEO:48.77364;9.17747
ORGANIZER:mailto:Emanzipation & Frieden, teilbar e.V.
END:VEVENT
END:VCALENDAR
