BEGIN:VCALENDAR
VERSION:2.0
PRODID:eintopf.info
METHOD:REQUEST
BEGIN:VEVENT
UID:897cf116-bb21-40a7-82bd-9e8088716f22
SUMMARY:Neuer Termin: "Kein Land für Niemand" (Film)
DTSTART:20260318T183000Z
URL:https://eintopf.info/event/897cf116-bb21-40a7-82bd-9e8088716f22
CATEGORIES:Kino\,Antifaschismus
DESCRIPTION:Weil die Nachfrage und das Interesse an einem zweiten Termin so
  groß ausfallen\, zeigen wir "Kein Land für Niemand" in Kooperation mit
  Seebrücke Stuttgart erneut im foodsharing-Café:\n\nZUM FILM\nEuropa
  zieht die Mauern hoch – mitten in einer humanitären Katastrophe. Die
  Dokumentation„Kein Land für Niemand – Abschottung eines
  Einwanderungslandes“ beleuchtet die drastischen Folgen der
  europäischen Abschottungspolitik und die Rolle Deutschlands in diesem
  Paradigmenwechsel. Der Film begleitet eine Rettungsmission im
  Mittelmeer\, zeigt die katastrophalen Zustände in Lagern für
  Geflüchtete und gibt Menschen eine Stimme\, die den lebensgefährlichen
  Weg nach Europa überlebt haben. Gleichzeitig blickt er auf die
  politische und gesellschaftliche Entwicklung in Deutschland: Ein
  erstarkender Rechtspopulismus prägt den Diskurs. Flucht und Migration
  werden zunehmend kriminalisiert\, und humanitäre Hilfe gerät unter
  Druck. Deutschland gibt hier immer wieder den Takt vor und Europa zieht
  nach. Durch exklusive Interviews mit Wissenschaftlerinnen\, politischen
  Entscheidungsträgerinnen und Aktivist*innen hinterfragt „Kein Land
  für Niemand“ die aktuellen Narrative über Flucht und Migration und
  beleuchtet die Mechanismen\, mit denen Angst und Populismus die
  politische Agenda bestimmen. Wie konnte es so weit kommen? Und welche
  Alternativen gibt es zu einem Europa\, das sich immer weiter
  abschottet?\n\nHINTERGRUND\nDie Raupe fördert den Erhalt von Independent
  Filmen und setzt sich damit für mehr analoge Filmkunst ein. Mit einem
  Besuch der Veranstaltung unterstützt ihr nicht nur die Raupe als
  gemeinnützigen Kultur- und Bildungsort\, sondern auch unabhängige
  Filmverleihe und Filmeschaffende\, deren Werke fernab von
  Streaming-Giganten produziert und verliehen werden. Lasst uns echte
  Programmvielfalt leben und uns auch daran erinnern\, die Kino-Kultur und
  all die vielen kleinen Filmtheater zu erhalten. Was euch der Abend und
  das Erlebnis wert sind\, entscheidet ihr selbst – solidarisch nach
  euren Möglichkeiten. Es gibt keinen Kartenvorverkauf und keine
  Möglichkeit\, zu reservieren. First come\, first served! :)
LOCATION:Raupe Immersatt\, Johannesstraße 97\, Stuttgart
GEO:48.782018;9.1579717
ORGANIZER:mailto:Raupe Immersatt,Seebrücke Stuttgart
END:VEVENT
END:VCALENDAR
