BEGIN:VCALENDAR
VERSION:2.0
PRODID:eintopf.info
METHOD:REQUEST
BEGIN:VEVENT
UID:897154a1-f2c2-4de2-b227-1c2444bebcfa
SUMMARY:Plenum
DTSTART:20250107T180000Z
URL:https://eintopf.info/event/897154a1-f2c2-4de2-b227-1c2444bebcfa
DTEND:20250107T200000Z
CATEGORIES:Offenes Treffen\,Klimagerechtigkeit
DESCRIPTION:
LOCATION:Linkes Zentrum Lilo Herrmann\, Böblinger Straße 105\, 70199
  Stuttgart
GEO:48.7618266;9.1567994
ORGANIZER:mailto:Aktionstreffen Klimagerechtigkeit 
END:VEVENT
END:VCALENDAR
