BEGIN:VCALENDAR
VERSION:2.0
PRODID:eintopf.info
METHOD:REQUEST
BEGIN:VEVENT
UID:89341408-3c40-4f24-a406-6fdd3d0f69db
SUMMARY:Workshop: Was muss ich wissen? Sexuelle und geschlechtliche
  Vielfalt in der Arbeit mit Kindern und Jugendlichen
DTSTART:20251029T090000Z
URL:https://eintopf.info/event/89341408-3c40-4f24-a406-6fdd3d0f69db
DTEND:20251029T130000Z
CATEGORIES:Workshop\,Feminismus
DESCRIPTION:Was genau bedeutet "queer"? Was kann ich tun\, wenn sich ein
  Kind bei mir\noutet? Wie gehe ich mit queerfeindlichen Beleidigungen in
  meiner Einrichtung\num? Was bedeutet das neue Selbstbestimmungsgesetz
  für Jugendliche?\n\nIm Workshop widmen wir uns den Grundlagen sexueller
  und geschlechtlicher Vielfalt\, sprechen über Begrifflichkeiten und
  gesetzliche Regelungen. Entlang persönlicher Reflexion\, kollegialer
  Beratung und Fallarbeit soll ein diskriminierungssensibler Blick für die
  eigene Praxis geschärft werden.\nEs ist kein Vorwissen notwendig und es
  wird Raum für Fragen und Austausch geben.\n\nKosten: 55€\, Anmeldung
  in Kürze auf: https://vielfalt-verankern.de/
LOCATION:Sunny High Club\, Bahnhofstr. 14\, 70372 Stuttgart
GEO:48.8025406;9.2170963
ORGANIZER:mailto:LAG Mädchen*politik
END:VEVENT
END:VCALENDAR
