BEGIN:VCALENDAR
VERSION:2.0
PRODID:eintopf.info
METHOD:REQUEST
BEGIN:VEVENT
UID:88ab7714-f892-4d2c-a997-9805469b4f98
SUMMARY:Kurzfilmscreening: Wandel.Kino
DTSTART:20250608T170000Z
URL:https://eintopf.info/event/88ab7714-f892-4d2c-a997-9805469b4f98
CATEGORIES:Kino\,Klimagerechtigkeit
DESCRIPTION:Wandel.KINO zeigt euch am Raupen-Geburtstag in Kooperation mit
  NaturVision Filmfestival ein vielfältiges Kurzfilmprogramm.\n\nFilme\,
  die gesellschaftspolitische Impulse setzen\, die Lust machen\, sich
  tiefgehender mit sozialen-ökologischen Themen zu beschäftigen. Filme\,
  die Missstände aufzeigen und uns zum Nachdenken anregen. Filme\, die
  aber auch Räume für neue Möglichkeiten und Chancen öffnen und uns
  ermuntern\, gleich loszulegen. Filme\, die die Schönheit unserer Erde
  porträtieren und die uns motivieren\, unsere Routinen und Muster zu
  durchbrechen\, um für ihren Erhalt in Zeiten der Klimakrise zu
  kämpfen.\n\nLasst euch inspirieren und lauscht den Geschichten der
  Filmemacher:innen!\n\n\n--\n\nDanke an die Stadt Stuttgart für die
  Unterstützung zur Finanzierung des Programms :)
LOCATION:Raupe Immersatt\, Johannesstraße 97\, Stuttgart
GEO:48.782018;9.1579717
ORGANIZER:mailto:Raupe Immersatt
END:VEVENT
END:VCALENDAR
