BEGIN:VCALENDAR
VERSION:2.0
PRODID:eintopf.info
METHOD:REQUEST
BEGIN:VEVENT
UID:87585ed0-b535-42c6-90ed-9a58a9179dbc
SUMMARY:Aftermass April
DTSTART:20260403T183000Z
URL:https://eintopf.info/event/87585ed0-b535-42c6-90ed-9a58a9179dbc
DTEND:20260403T210000Z
CATEGORIES:Gesellig\,Mobilität
DESCRIPTION:
LOCATION:Prisma\, Bahnhofstraße 14-18\, 70372 Stuttgart
GEO:48.8024492;9.2171569
ORGANIZER:mailto:Bike Kitchen Stuttgart,Stuttgart Bike Night
END:VEVENT
END:VCALENDAR
