BEGIN:VCALENDAR
VERSION:2.0
PRODID:eintopf.info
METHOD:REQUEST
BEGIN:VEVENT
UID:86a42bc7-411b-48aa-8e3c-4067438f8b6f
SUMMARY:FLINTA*-only Bike Kitchen
DTSTART:20250525T120000Z
URL:https://eintopf.info/event/86a42bc7-411b-48aa-8e3c-4067438f8b6f
CATEGORIES:DIY\,Sonstiges
DESCRIPTION:🚲🔧 FLINTA* only Bike Kitchen am 25. Mai 2025
  🍰✨\n\nDu hast Bock\, dein Fahrrad frühlingsfit zu machen\, willst
  schrauben\, schnacken und dabei ein Stück Kuchen genießen? Dann komm zu
  unserer FLINTA* only Bike Kitchen* am Sonntag\, den 25.5.2025!\n\nWann &
  Was geht?\n📍 Ort:Prisma\n🕑 14:00 Uhr – Workshop: „Ist mein
  Fahrrad fit für den Frühling?“\nWir checken gemeinsam\, was dein Rad
  braucht\, um sicher in die warme Saison zu starten.\n🔧 Danach: Freies
  Schrauben – bring dein Bike mit und wir helfen uns gegenseitig.\n🕔
  Ab 17:00 Uhr – Gemütlicher Ausklang mit Raum für Austausch\,
  Quatschen und Kuchen.\n\nWer ist eingeladen?\nAlle\, die sich als FLINTA*
  begreifen – also Frauen\, Lesben\, inter\, nicht-binäre\, trans und
  agender Personen.\n👉 Der Begriff FLINTA* benennt Menschen\, die in
  einer patriarchalen Gesellschaft strukturell benachteiligt werden – das
  Sternchen steht für weitere Identitäten\, die mitgedacht werden
  sollen.\n\nOb du schon Erfahrung hast oder noch nie einen Reifen
  gewechselt hast – alle Levels sind willkommen!\n\nAlso schnapp dir dein
  Rad\, deine Fragen und Freund*innen – wir freuen uns auf dich! 💜
LOCATION:Prisma\, Bahnhofstraße 14-18\, 70372 Stuttgart
GEO:48.8024492;9.2171569
ORGANIZER:mailto:Bike Kitchen Stuttgart
END:VEVENT
END:VCALENDAR
