BEGIN:VCALENDAR
VERSION:2.0
PRODID:eintopf.info
METHOD:REQUEST
BEGIN:VEVENT
UID:86a1acac-014c-4c4a-b8b1-74e7d3f61f45
SUMMARY:Reflexionsraum über Rassismus – Hanau Gedenken
DTSTART:20250219T183000Z
URL:https://eintopf.info/event/86a1acac-014c-4c4a-b8b1-74e7d3f61f45
CATEGORIES:Offenes Treffen\,Antirassimus
DESCRIPTION:Am 19. Februar wurden zehn Menschen bei einem rassistischen und
  rechtsextremen Anschlag ermordet. Seitdem arbeitet die Initiative 19.
  Februar Hanau unablässig um die die Umstände aufzuklären. Dazu gehört
  zum Beispiel der versperrte Notausgang in der „Arena Bar“\, oder die
  Überlastung des Notrufs\, aber auch die anhaltende Belästigung der
  Familien der Opfer durch den Vater des Täters.\n\nWir befassen uns durch
  das Material der Initiative mit dem Anschlag und erinnern an die
  Opfer.\n\nRassismus zieht sich durch viele Aspekte der Geschehnisse am
  19. Februar 2020 in Hanau. Rassismus wirkt aber schon viel subtiler in
  uns und unserem Alltag. Es ist notwendig\, die Augen dafür zu öffnen
  und sich damit auseinanderzusetzen. Dafür wird es im Anschluss eine
  offene Reflexionsrunde geben.\n\nFür die Runde verwenden wir das
  Kartenset „Lasst uns über Rassismus reden!“ von Josephine Apraku.
  Die Reflexionsrunde wird von einem weißen Menschen aus dem DemoZ
  Awareness Team angeleitet.\n\nWir gedenken:\n\nGökhan Gültekin\nSedat
  Gürbüz\nSaid Nesar Hashemi\nMercedes Kierpacz\nHamza Kurtović\nVili
  Viorel Păun\nFatih Saraçoğlu\nFerhat Unvar\nKaloyan Velkov\n\nHinweis:
  Die Mittel zu dieser Veranstaltung stammen aus dem
  baden-württembergischen Staatshaushalt\, den der Landtag von
  Baden-Württemberg beschlossen hat.
LOCATION:Demokratisches Zentrum Ludwigsburg (DemoZ)\,  Wilhelmstr. 45/1
  71638 Ludwigsburg 
GEO:48.89585;9.18429
ORGANIZER:mailto:Demokratisches Zentrum Ludwigsburg (DemoZ)
END:VEVENT
END:VCALENDAR
