BEGIN:VCALENDAR
VERSION:2.0
PRODID:eintopf.info
METHOD:REQUEST
BEGIN:VEVENT
UID:8462fb09-2ddd-4187-aa42-8cbf39ac1ba0
SUMMARY:Kids-Lesung "Klima-Wimmelbuch" & Upcycling-Workshop
DTSTART:20250608T120000Z
URL:https://eintopf.info/event/8462fb09-2ddd-4187-aa42-8cbf39ac1ba0
DTEND:20250608T130000Z
CATEGORIES:DIY\,Klimagerechtigkeit
DESCRIPTION:Wir laden in Kooperation mit der VHS Ökostation Stuttgart alle
  Kinder ein\, mit uns das große Klima-Wimmelbuch von Stuttgart zu
  entdecken. Wir tauschen miteinander Ideen und Aktionen aus\, wie eine
  nachhaltige Großstadt funktionieren kann\, und tauchen gemeinsam tauchen
  in die Geschichten des Wimmelbuches ein. In gemütlicher Runde auf
  Sitzkissen und Teppichen erfahren die Kinder viel zum Thema Klimaschutz
  und nachhaltigen Lebensstil mit anschaulichen Beispielen aus ihrem
  eigenen Leben. Gemeinsam begleiten wir den Kuckuck bei seiner Reise durch
  die Stadt\, so wie sie ist und wie sie sein könnte – vom Schlossplatz
  über den Max-Eyth-See zum Hölderlinplatz zum foodsharing-Café Raupe
  Immersatt. Anschließend wird gemeinsam gewerkelt und gebastelt – alle
  sind willkommen :) Mit Übersetzung in die deutsche
  Gebärdensprache.\n\nDas Klima-Wimmelbuch ist ein Projekt der vhs
  ökostation und wird gefördert vom Klima-Innovationsfonds. Danke an die
  Stadt Stuttgart für die Unterstützung!
LOCATION:Raupe Immersatt\, Johannesstraße 97\, Stuttgart
GEO:48.782018;9.1579717
ORGANIZER:mailto:Raupe Immersatt
END:VEVENT
END:VCALENDAR
