BEGIN:VCALENDAR
VERSION:2.0
PRODID:eintopf.info
METHOD:REQUEST
BEGIN:VEVENT
UID:839c3344-bed2-4d11-a189-f209e57e3f35
SUMMARY:10 Tage freischwimmen: Wearing the Angles\, Kissing the Room
DTSTART:20240426T180000Z
URL:https://eintopf.info/event/839c3344-bed2-4d11-a189-f209e57e3f35
DESCRIPTION:Orientierung ist die Wahrnehmung des Raums durch den Körper.
  Eine Körpersprache\, die auf den Körper angewiesen ist\, um den Raum zu
  bewohnen. Ceylan Öztrük\, die 2022 den Swiss Art Award erhielt\, stellt
  das Konzept der Orientierung in den Vordergrund\, um Räumlichkeit durch
  Desorientierung neu zu denken.\n\nDa Desorientierung bedeutet\, selbst
  zum Objekt oder zur Skulptur zu werden\, ist „Wearing the Angles\,
  Kissing the Room“ eine Erzählung über den Zusammenprall und die
  Verschmelzung von Körper und Gebäude\, Person und Institution\,
  Gebogenem und Geradem.\n\nEin Text konstituiert die Form dieser Arbeit
  und dehnt sich in den Raum aus\, während eine eindrucksvolle
  Bühneninstallation einen traumähnlichen Zustand kreiert. „Wearing the
  Angles\, Kisses the Room“ nimmt das Momentum der Umgehung ins Zentrum\,
  um die Orientierung zwischen Körpern und konstruierten Räumen neu
  auszurichten und eine andere Art der Orientierung an Dingen zu schaffen.
  Desorientierung wird zu einem Element des Körpers und lässt Körper und
  Gebäude ineinanderfließen. In einer unaufgeregten Performance wird der
  Moment des Sich-Verlierens durch zielgerichtete Desorientierung
  inszeniert.\n\nWeitere Infos: 10tagefreischwimmen.de\n\nMit der
  Unterstützung von der Stadt Zürich Kultur\, Migros Kulturprozent
  Zürich\, SIS – Schweizerische Interpretenstiftung\, Ernst und Olga
  Gubler-Hablützel Stiftung\, Co-Produktion und Gast-Performance
  ermöglicht durch das Freischwimmen Network\, gefördert durch den
  Beauftragten der Bundesregierung für Kultur und Medien im Rahmen des
  Programms „Verbindungen fördern“ des Bundesverbandes Freie
  Darstellende Künste e.V. Koproduktion mit Gessnerallee\, 2023.
LOCATION:Kunstverein Wagenhalle\, Innerer Nordbahnhof 1\, 70191 Stuttgart
GEO:48.7991183;9.1858991
ORGANIZER:mailto:Kunstverein Wagenhalle,Theater Rampe
END:VEVENT
END:VCALENDAR
