BEGIN:VCALENDAR
VERSION:2.0
PRODID:eintopf.info
METHOD:REQUEST
BEGIN:VEVENT
UID:835b6d24-888d-47ff-bd71-5743174ba209
SUMMARY:Konzert: Arcane Allies + mehr
DTSTART:20240210T193000Z
URL:https://eintopf.info/event/835b6d24-888d-47ff-bd71-5743174ba209
DESCRIPTION:Arcane Allies ist ein minimalistisches Krautrock Trio bestehend
  aus Christiana Bonhaus (Theremin & Synthesizer)\, Sidney Jaffe
  (Schlagzeug & Synthesizer) und Joel Jaffe (Gitarre & Synthesizer). Arcane
  Allies bewegt sich musikalisch zwischen hypnotischen grooves\,
  sphärischen elektronischen Klängen und energetischem Fuzzrock. Die
  Formation besteht seit 2016. 2019 veröffentlichte Arcane Allies ihr
  Debut Album „Saraswati“ auf  Pink Tank & Tonzone Records. 2022
  erschien ein Split Album mit der Band Kombynat Robotron (Pink Tank
  Records) sowie 2023 das zweite full lenghts Album “Sunra
  Oscillations” (Pink Tank Records).
LOCATION:KOMMA esslingen\, Maille 5-9\, 73738 Esslingen
GEO:48.7382339;9.3094705
END:VEVENT
END:VCALENDAR
