BEGIN:VCALENDAR
VERSION:2.0
PRODID:eintopf.info
METHOD:REQUEST
BEGIN:VEVENT
UID:810c819e-daaf-4e7c-8bcc-397c8ed31968
SUMMARY:Improtheater mit Kanonenfutter
DTSTART:20231124T190000Z
URL:https://eintopf.info/event/810c819e-daaf-4e7c-8bcc-397c8ed31968
DTEND:20231124T210000Z
DESCRIPTION:Das Improtheater Kanonenfutter spielt seit rund zehn Jahren auf
  Bühnen in Stuttgart\, manchmal auch über Baden-Württemberg hinaus. Mit
  vollständig im Moment erdachten Szenen\, Witzen und Songs bringen sie
  ein unendliches Repertoire an Ideen mit. Inspiriert werden sie dafür von
  Vorgaben\, die das Publikum stellt. Die Show wird durch den Einfluss der
  Zuschauenden maßgeblich beeinflusst. Was passieren wird\, entscheidet
  sich innerhalb von Augenblicken live\, während es passiert.\n\nWir
  freuen uns auf einen ereignisreichen Abend mit Kanonenfutter. Kommt
  vorbei :) Eintritt solidarisch – ihr zahlt einen freiwählbaren
  Wertschätzungsbeitrag\, basierend auf euren finanziellen Möglichkeiten.
  Damit werden Gagen für Künstler:innen\, Technikkosten & Co. finanziert!
LOCATION:Raupe Immersatt\, Johannesstraße 97\, Stuttgart
GEO:48.782018;9.1579717
ORGANIZER:mailto:Raupe Immersatt
END:VEVENT
END:VCALENDAR
