BEGIN:VCALENDAR
VERSION:2.0
PRODID:eintopf.info
METHOD:REQUEST
BEGIN:VEVENT
UID:7fedb138-92bb-4cff-b001-40644eb5fd86
SUMMARY:Sauberes Gas ist eine dreckige Lüge!
DTSTART:20210723T140000Z
URL:https://eintopf.info/event/7fedb138-92bb-4cff-b001-40644eb5fd86
DTEND:20210723T153000Z
DESCRIPTION:\nERDGAS = FOSSILER KOLONIALISMUS\nEs ist absurd\, dass
  Deutschland\, die EU und andere Länder des Globalen Nordens für
  Klimaabkommen und eine nachhaltige Energiewende eintreten\, während sie
  gleichzeitig multinationale Öl- und Gaskonzerne fördern\, die mit ihren
  Aktivitäten im Rest der Welt all diese Verpflichtungen untergraben. Gas
  ist ein Paradebeispiel für diesen modernen Kolonialismus.\nGas ist ein
  Brandbeschleuniger der globalen Klimakrise und Fracking sorgt neben der
  Verschmutzung von Böden auch für Wassermangel in den Abbauregionen.
LOCATION:Kesselbambule Klimacamp 2021\, Wird noch bekannt gegeben
ORGANIZER:mailto:Kesselbambule,Ende Gelände Stuttgart
END:VEVENT
END:VCALENDAR
