BEGIN:VCALENDAR
VERSION:2.0
PRODID:eintopf.info
METHOD:REQUEST
BEGIN:VEVENT
UID:7fd82dfd-2e9e-4504-90b8-702e4c9ef812
SUMMARY:Musikkneipe mit der Liedermacherin Simone Stahl
DTSTART:20240313T190000Z
URL:https://eintopf.info/event/7fd82dfd-2e9e-4504-90b8-702e4c9ef812
DESCRIPTION:Die Stuttgarter Liedermacherin ist die perfekte Mischung aus
  Vagabundin und Gemütlichkeit. Und das ist nur einer der vielen\,
  skurrilen Gegensätze ihres Lebens. Von kryptischem Geraune und aufwendig
  geschminkten Sounds hält Simone nichts:  Ihre Arrangements klingen
  bemerkenswert natürlich und ihre Texte und Melodien gehen sofort ins
  Blut. Eine Liedermacherin\, die wahrgenommen wird\, weil sie die Welt um
  sich herum hellwach wahrnimmt – auch dann\, wenn sie von zärtlichen
  Träumen singt.\n\nwww.simonestahl.com\n\n(Foto Felix Walther)
LOCATION:Demokratisches Zentrum Ludwigsburg (DemoZ)\,  Wilhelmstr. 45/1
  71638 Ludwigsburg 
GEO:48.89585;9.18429
ORGANIZER:mailto:Demokratisches Zentrum Ludwigsburg (DemoZ)
END:VEVENT
END:VCALENDAR
