BEGIN:VCALENDAR
VERSION:2.0
PRODID:eintopf.info
METHOD:REQUEST
BEGIN:VEVENT
UID:7d6aecb1-4a04-4f9e-8e92-dd9c1bc74216
SUMMARY:Umsonst & Draußen - offenes Plenum
DTSTART:20251001T180000Z
URL:https://eintopf.info/event/7d6aecb1-4a04-4f9e-8e92-dd9c1bc74216
DTEND:20251001T200000Z
CATEGORIES:Offenes Treffen\,Vergesellschaftung
DESCRIPTION:Nächstes Jahr wird es hoffentlich mit deiner Hilfe vom 7. bis
  9. August das 45. U&D -Festival auf dem Festplatz an der Krehlstraße
  geben.\n\n- Nachlese 44. U&D: Was war gut und was muss verbessert
  werden?\n\n- Planung Helfer*innenfest\n\n- Vorbereitung für
  Materiallager sortieren mit System\n\n- Planung Klausurtag\n\nJetzt ist
  die Zeit\, uns grundsätzliche Gedanken zum 45. U&D zu machen\, bevor
  dann die konkreten Vorbereitungen beginnen und für Grundsätzliches
  keine Zeit mehr ist. Was soll bleiben\, was kann besser werden\, gibt es
  neue Vorschläge\, Ideen\, Kooperationen? Welcher Themenschwerpunkt soll
  auf dem Forum beleuchtet werden. Nicht zuletzt: was wird das Motiv des
  45. U&D sein\, wie soll das Plakat aussehen? Hiermit ist der
  Plakatwettbewerb für das 45. U&D eröffnet. Alle Kreativen sind
  aufgerufen\, daran teilzunehmen und uns bis Anfang Februar ihre
  Vorschläge zu schicken.\n\nUnsere Orga heißt „Plenum„. Wir treffen
  uns das ganze Jahr über\, um das U&D vorzubereiten. Im Herbst und Winter
  in längeren Abständen\, im Frühling öfter und vor dem U&D
  wöchentlich.\n\nZum Plenum kann jede*r kommen\, mitreden\, vorschlagen\,
  mitentscheiden.\n\nUnser Festival lebt von den Ideen\, die im Plenum
  einfließen und gemeinsam weiterentwickelt werden. Der kreative Teil des
  Umsonst & Draußen findet das ganze Jahr über statt: Konzerte besuchen\,
  spannende kulturelle Highlights entdecken und auswählen\, Kontakte zu
  anderen zivilgesellschaftlichen und kulturellen Initiativen pflegen\,
  Gedankenaustausch darüber\, was gut gelaufen ist und was noch verbessert
  werden kann.
LOCATION:Naturfreundehaus Steinbergle\, Stresemannstr. 6\, 70191 Stuttgart
GEO:48.80251805;9.17404080102299
ORGANIZER:mailto:Umsonst & Draußen Stuttgart
END:VEVENT
END:VCALENDAR
