BEGIN:VCALENDAR
VERSION:2.0
PRODID:eintopf.info
METHOD:REQUEST
BEGIN:VEVENT
UID:7d490ffd-3807-4150-b9b2-95179283d1b1
SUMMARY:Spieleabend
DTSTART:20241217T160000Z
URL:https://eintopf.info/event/7d490ffd-3807-4150-b9b2-95179283d1b1
DTEND:20241217T180000Z
CATEGORIES:Gesellig\,Sonstiges
DESCRIPTION:Schach\, Rommeé\, Uno oder Mensch ärgere dich nicht...\nBeim
  Spieleabend ist für alle was dabei!\n\nHier kannst du spielen\, Spaß
  haben und Deutsch üben. \n\nEgal ob Anfänger*in oder Profi - jede*r ist
  willkommen. 
LOCATION:PLEKS.Fellbach\, Schorndorferstr 37/1\, 70736 Fellbach
GEO:48.8157601;9.2822573
ORGANIZER:mailto:PLEKS.Fellbach
END:VEVENT
END:VCALENDAR
