BEGIN:VCALENDAR
VERSION:2.0
PRODID:eintopf.info
METHOD:REQUEST
BEGIN:VEVENT
UID:7d1d20bb-cb85-44b4-9bc7-6dbf516d97ff
SUMMARY:Trash Karaoke Party
DTSTART:20250104T170000Z
URL:https://eintopf.info/event/7d1d20bb-cb85-44b4-9bc7-6dbf516d97ff
DTEND:20250105T000000Z
CATEGORIES:Offenes Treffen\,Queer
DESCRIPTION:Für unser erstes Gruppentreffen im Januar wird die
  Karaokeanlage flott gemacht. Als Teil des Weihnachtsprogramms des Juze
  Backnang sind queere Jugendliche \, Allys und alle anderen\, die Lust auf
  Karaoke haben\, eingeladen.\nWann? Samstag\, den 04.1.25 ab 18 Uhr\nWo?
  Juze Backnang Mühlstraße 3 \n\nWas erwartet dich?\n🎤 Singen\,
  zuhören und gute Stimmung! Du kannst selbst zum Mikro greifen und deine
  favs präsentieren\, oder einfach so dabei sein und einen lustigen Abend
  genießen. Genau richtig\, um den trüben Winter abzuschütteln.
  Getränke und Snacks gibt es natürlich auch.\n🗣️ Zeit für
  Austausch: Lerne neue Leute kennen\, plaudere und hab einfach Spaß in
  einer offenen und unterstützenden Atmosphäre!\n\nKomm vorbei und starte
  ins neue Jahr mit einer ausgelassenen Party! Eine Anmeldung ist nicht
  notwendig.\n\nBist du das erste Mal da? Sprich eine Person vom Orga Team
  an\, sie führen dich herum\, stellen dich den anderen vor und helfen dir
  mit Fragen. Wir freuen uns auf dich! 🌈\n\n-----\n\n🏳️‍🌈 Der
  Rems-Queer-Kreis ist eine offene LSBTTIQA* Jugendgruppe\, die Anfang 2020
  aus Eigeninitiative von queeren Jugendlichen entstand. Seitdem findet
  jeden ersten Samstag im Monat unser Gruppentreffen mit wechselnden
  Themenschwerpunkten statt\, bei dem wir uns chillen\, quatschen und einen
  Tisch mit Flyern und Büchern aufgebaut haben.\n\n📆 Meistens treffen
  wir uns am ersten Samstag im Monat von 14-18 Uhr in der Mühlstraße 3\,
  71522 Backnang. Der genaue Treffpunkt und Themenschwerpunkt werden
  spätestens zwei Wochen vor dem Treffen
  veröffentlicht.\n\n🏳️‍⚧️ Die Gruppe ist offen für alle
  Jugendliche bis 27 Jahre\, die sich als lesbisch\, schwul\, bisexuell\,
  pansexuell\, trans\, inter\, queer\, asexuell oder aromantisch etc.
  identifizieren. Auch Allys\, Neugierige und Menschen\, die sich fragen ob
  sie vielleicht queer sind\, sind willkommen.\n\n👥 Der Jugendtreff ist
  ein Projekt des Kreisjugendring Rems-Murr e.V.\n\n🫵🏽 Hast du Lust
  queere Jugendarbeit im ländlichen Raum zu unterstützen? Dann werde Teil
  unseres Orga Teams\, denn der Rems-Queer-Kreis lebt von uns Queers\, die
  sich das Programm selbst gestalten! Schreib uns eine Privatnachricht oder
  komm zu einem offenen Orga Treffen! Die Termine findest du auf unseren
  Socials.\n\nInstagram: @rems_queer_kreis\nMastodon:
  lsbt.me/@rems_queer_kreis
LOCATION:Juze Backnang\, Mühlstraße 3\, Backnang
GEO:48.94637055;9.42021475
ORGANIZER:mailto:Rems Queer Kreis
END:VEVENT
END:VCALENDAR
