BEGIN:VCALENDAR
VERSION:2.0
PRODID:eintopf.info
METHOD:REQUEST
BEGIN:VEVENT
UID:7b7ec264-30a3-4a7c-85d8-4e7b91b61c19
SUMMARY:Kundgebung anlässlich "15 Jahre Schwarzer Donnerstag"
DTSTART:20250929T160000Z
URL:https://eintopf.info/event/7b7ec264-30a3-4a7c-85d8-4e7b91b61c19
CATEGORIES:Demonstration\,Klimagerechtigkeit
DESCRIPTION:Kundgebung gegen Stuttgart 21 anlässlich des Jahrestages "15
  Jahre Schwarzer Donnerstag"\n\nRedner:\nHeinrich Steinfest\, Autor und
  Künstler\nDaniel Kartmann\, Musiker\nDieter Reicherter\,
  Aktionsbündniss\n\nMusik:\nGez Zirkelbach\n\nModeration:\nAngelika
  Linckh\n\n
LOCATION:Schlossplatz Stuttgart\, Stuttgart
ORGANIZER:mailto:parkschuetzer.de
END:VEVENT
END:VCALENDAR
