BEGIN:VCALENDAR
VERSION:2.0
PRODID:eintopf.info
METHOD:REQUEST
BEGIN:VEVENT
UID:7b6075f5-7da3-40cb-bee5-044945afc13a
SUMMARY:Umsonst & Draußen Plenum
DTSTART:20241106T190000Z
URL:https://eintopf.info/event/7b6075f5-7da3-40cb-bee5-044945afc13a
DTEND:20241106T210000Z
CATEGORIES:Offenes Treffen\,Sonstiges
DESCRIPTION:Unsere Orga heißt „Plenum„. Wir treffen uns das ganze Jahr
  über\, um das U&D vorzubereiten. Im Herbst und Winter in längeren
  Abständen\, im Frühling öfter und vor dem U&D wöchentlich.\n\nZum
  Plenum kann jede*r kommen\, mitreden\, vorschlagen\,
  mitentscheiden.\n\nUnser Festival lebt von den Ideen\, die im Plenum
  einfließen und gemeinsam weiterentwickelt werden. Der kreative Teil des
  Umsonst & Draußen findet das ganze Jahr über statt: Konzerte besuchen\,
  spannende kulturelle Highlights entdecken und auswählen\, Kontakte zu
  anderen zivilgesellschaftlichen und kulturellen Initiativen pflegen\,
  Gedankenaustausch darüber\, was gut gelaufen ist und was noch verbessert
  werden kann.
LOCATION:Naturfreundehaus Steinbergle\, Stresemannstr. 6\, 70191 Stuttgart
GEO:48.80251805;9.17404080102299
ORGANIZER:mailto:Umsonst & Draußen Stuttgart
END:VEVENT
END:VCALENDAR
