BEGIN:VCALENDAR
VERSION:2.0
PRODID:eintopf.info
METHOD:REQUEST
BEGIN:VEVENT
UID:7b4ac3e1-6a27-437b-b732-21831ba8418a
SUMMARY:Wegege aus der Konfrontation?! NACH DER STILLE  Film und Gespräch
DTSTART:20250122T170000Z
URL:https://eintopf.info/event/7b4ac3e1-6a27-437b-b732-21831ba8418a
CATEGORIES:Podiumsdiskussion\,Sonstiges
DESCRIPTION:
LOCATION:Erinnerungsort Hotel Silber\, Dorotheenstraße 10\, 70173
  Stuttgart
ORGANIZER:mailto:Initiative Lern- und Gedenkort Hotel Silber,Heinrich Böll
  Stiftung,NaturFreunde Stuttgart,Die AnStifter e.V.,Stuttgarter
  Stolperstein Initiativen
END:VEVENT
END:VCALENDAR
