BEGIN:VCALENDAR
VERSION:2.0
PRODID:eintopf.info
METHOD:REQUEST
BEGIN:VEVENT
UID:7a00a1ef-4550-4bfc-b2a3-6f1bdef97aaf
SUMMARY:Konzert: Djonni Laser + Brnjsmin
DTSTART:20251023T180000Z
URL:https://eintopf.info/event/7a00a1ef-4550-4bfc-b2a3-6f1bdef97aaf
DTEND:20251023T230000Z
CATEGORIES:Konzert & Party\,Sonstiges
DESCRIPTION:Brnjsmin\nFließende Klänge\, manchmal gespenstisch\,
  knisternde und bewegte Bässe\, kollabierende Schlagzeug Samples\, weiche
  Synthesizer im Wechselspiel mit digitalen Stimmen - und immer wieder:
  Pausen\, Stille\, warten\, Luft holen.\n\nDjonni Laser Live arrangierte
  elektronische Musik fordert liebevoll heraus\, kein easy-listening\, aber
  stets interessant\, Neugier weckend und eine tiefgreifende Erfahrung
  ermöglichend. Mit weit offenen Armen lädt sie die Zuhörenden ein\,
  sich in ihr Sound-Bett zu legen und mit ihr die Komplexität und
  Abstraktheit sozialer und ökologischer Systeme zu erleben
LOCATION:Sunny High Club\, Bahnhofstr. 14\, 70372 Stuttgart
GEO:48.8025406;9.2170963
ORGANIZER:mailto:Sunny High
END:VEVENT
END:VCALENDAR
