BEGIN:VCALENDAR
VERSION:2.0
PRODID:eintopf.info
METHOD:REQUEST
BEGIN:VEVENT
UID:77721cd7-9fd8-44bf-a260-72f5c6545a95
SUMMARY:Porsche – der Primus im Kartell der Klimakiller
DTSTART:20240305T150000Z
URL:https://eintopf.info/event/77721cd7-9fd8-44bf-a260-72f5c6545a95
DESCRIPTION:Porsche ist nicht nur im Umkreis seines Stammsitzes in
  Stuttgart-Zuffenhausen und darüber hinaus\, z.B. in Weissach und
  Mönsheim bekannt für seine Rücksichtslosigkeit\, was Natur-\nund
  Landschaftsschutz angeht: Wertvolle Biotopstukturen werden beseitigt\,
  Begrünungsgebote nicht eingehalten\, Parkhäuser werden auf
  Naturschutzflächen gebaut\, in Stuttgart werden Kreuzungen und Straßen
  völlig überdimensioniert für Porsche ausgebaut\, Wohnhäuser werden
  abgerissen\, um Platz für die Begehrlichkeiten von Porsche zu
  gewinnen.\n"Wo Porsche baut\, bleibt kein Baum stehen"\, bewahrheitet
  sich womöglich demnächst\nauch im süditalienischen Apulien\, wo dem
  Konzern eine bestehende Teststrecke auf dem Nardò-Testgelände nicht
  mehr reicht.\n„Das Auto der Zukunft braucht mehr Platz!“\nPorsche
  scheut sich nicht davor\, für eine erweiterte Teststrecke 200 Hektar
  einer großen Waldfläche mit sehr vielen alten Eichenbäumen zu roden.
  Dieser Fläche kommt in der Region eine ungeheuer große ökologische
  Bedeutung zu\, da das Umland von Kargheit und extremer Trockenheit
  gekennzeichnet ist.\nPorsche geht damit einmal mehr für den Profit über
  Baumleichen und demonstriert\, dass die Nachhaltigkeitsziele des Konzerns
  leere Versprechen sind.\nWir solidarisieren uns mit den Menschen in
  Süditalien\, die um den Erhalt des Waldes kämpfen\, “Custodi del
  Bosco D’Arneo”\, den Hüter*innen des Arneowaldes.\nKlimawandel kennt
  keine Landesgrenzen\, die Klimakatastrophe trifft uns alle und wird von
  Porsche mit befördert.\nDaher laden wir ein zu
  einer\n#Solidaritäts-Kundgebung am Dienstag\, 05.03.2024\, 16:00 Uhr\nam
  Porscheplatz in Stuttgart-Zuffenhausen\, S-Bahn-Halt
  Neuwirtshaus.\nAnschließend ziehen wir vor Werk 1 und übergeben einen
  Offenen Brief an
  die\nPorsche-Firmenleitung.\nhttps://www.parkschuetzer.de/statements/2156
 31\nhttps://linktr.ee/custodidelboscodarneo
LOCATION:Porscheplatz\, Porsche-Museum in Stuttgart-Zuffenhausen\,
  S-Bahn-Halt Neuwirtshaus
ORGANIZER:mailto:Stuttgarter Aktionsbündnis gegen Umwelt- und
  Naturzerstörung durch Porsche im In- und Ausland
END:VEVENT
END:VCALENDAR
