BEGIN:VCALENDAR
VERSION:2.0
PRODID:eintopf.info
METHOD:REQUEST
BEGIN:VEVENT
UID:76a33874-65e7-4581-8c28-a2fa8c105ef4
SUMMARY:FF*GZ visits MüZe: Sexualität & Körper – die richtigen Worte
  im Umgang mit Kindern dafür finden
DTSTART:20230928T143000Z
URL:https://eintopf.info/event/76a33874-65e7-4581-8c28-a2fa8c105ef4
DESCRIPTION:Input und Austausch mit Stefanie\n\nVulva\, Penis\, Bienchen
  und Blümchen – je nach eigener Erfahrung und Sozialisation fällt es
  manchen Menschen schwerer und manchen leichter\, über die Themen
  Sexualität und Körper zu sprechen. Wie geht es euch\, wenn eure
  (Klein-)Kinder plötzlich mit allerlei Fragen um die Ecke kommen?\n\nIn
  lockerer Atmosphäre und mit der notwendigen Portion Humor spricht
  Diplom-Pädagogin Stefanie an diesem Nachmittag über Sexualität im
  Kindesalter\, Scham\, das Finden von „richtigen“ Worten und alles\,
  was sonst im Themenfeld Sexualität interessant für die Anwesenden sein
  kann. Mit im Gepäck hat sie wertvolle Buchtipps und Hinweise zu
  Informationsquellen. Um dieses weite Thema ein wenig einzugrenzen\, geht
  es dabei schwerpunktmäßig um die Fragen\, die im Umgang mit Kindern von
  2\,5 bis 5\,5 Jahren auftauchen.\n\nFF*GZ- Mitfrau Stefanie lehrt als
  Dozentin an einer Fachschule für Sozialpädagogik aller-hand
  (Sexual-)Pädagogische Themen und ist selbst dreifache Mutter.\n\nDie
  Gesprächsrunde richtet sich an Eltern\, sonstige Bezugspersonen oder
  Fachkräfte im pädagogischen Bereich sowie alle am Thema Interessierten
  und ist kostenlos. Über einen Wertschätzungsbeitrag freuen wir uns.
  Eine Anmeldung ist nicht erforderlich.\nWo:\nMüZe Süd e.V.
  Gebrüder-Schmid-Weg 13\, 70199 Stuttgart\n
LOCATION:MüZe Süd Familienzentrum Stuttgart e.V.\,  MüZe Süd e.V.
  Gebrüder-Schmid-Weg 13\, 70199 Stuttgart 
ORGANIZER:mailto:FF*GZ – Feministisches Frauen*gesundheitszentrum
  Stuttgart
END:VEVENT
END:VCALENDAR
