BEGIN:VCALENDAR
VERSION:2.0
PRODID:eintopf.info
METHOD:REQUEST
BEGIN:VEVENT
UID:76561344-7077-499b-87bf-1c374a9b6647
SUMMARY:Brettspielspaß
DTSTART:20240217T170000Z
URL:https://eintopf.info/event/76561344-7077-499b-87bf-1c374a9b6647
DTEND:20240217T220000Z
DESCRIPTION:Lange Winterabende\, Schietwetter und ihr habt keine Ahnung\,
  wie ihr den öden langen Februar überstehen sollt? Wir finden:
  Winterzeit ist doch die perfekte Spielezeit. Deshalb präsentieren wir
  euch an diesem Abend unsere Lieblingsspiele :) Und wenn ihr eh noch auf
  der Suche nach der passenden Location für euren nächsten Spieleabend
  seit: Wir haben sie!\n\nKommt vorbei und stöbert in unserer Auswahl oder
  bringt gleich euer eigenes Lieblingsspiel mit!\n\nIn entspannter
  Café-Atmosphäre\, mit guter Musik\, ein paar geretteten Leckereien und
  Snacks und bester Umsorgung durch Team Raupe könnt ihr zocken\, was das
  Zeug hält!\n\nEintritt frei.
LOCATION:Raupe Immersatt\, Johannesstraße 97\, Stuttgart
GEO:48.782018;9.1579717
ORGANIZER:mailto:Raupe Immersatt
END:VEVENT
END:VCALENDAR
