BEGIN:VCALENDAR
VERSION:2.0
PRODID:eintopf.info
METHOD:REQUEST
BEGIN:VEVENT
UID:76509076-bd97-40cf-b46e-2b92f5c54493
SUMMARY:Vortrag: Über Geld sprechen? Na klar - nachhaltige Wege Geld
  anzulegen!
DTSTART:20241114T180000Z
URL:https://eintopf.info/event/76509076-bd97-40cf-b46e-2b92f5c54493
CATEGORIES:Vortrag\,Sonstiges
DESCRIPTION:Wie kannst du Geld anlegen\, sodass es zu deinen Werten passt?
  Gibt es nachhaltige Banken\, Fonds oder ETFs? Komm‘ zum interaktiven
  Vortrag und finde heraus\, wie dein Geld wirkt und welche Alternativen es
  gibt\, denn Geld ist der Hebel für die Finanzierung der Transformation
  oder als Altersvorsorge. Vorwissen? Nicht nötig.\n\nDer interaktive
  Vortrag beginnt um 19 Uhr und dauert ca. 60 Minuten. Danach hast du die
  Möglichkeit deine offenen Fragen zu stellen\, zu diskutieren und dich
  auszutauschen. Die Teilnahme ist kostenlos.\n\nReferent Tobias ist seit
  2020 im Bereich der nachhaltigen Finanzbildung für junge Menschen
  tätig. Dadurch möchte er Menschen unterstützen selbstständig mit den
  eigenen Überzeugungen Finanzentscheidungen zu treffen. Er gibt
  Vorträge\, Workshops und ist Mitorganisator des Money for Future
  Festivals (Berlin). Nebenher engagiert er sich in verschiedenen
  Ehrenämtern zur Transformation der Wirtschaft und Gesellschaft und
  studiert an der Technischen Universität zu Politik\, Wirtschaft und
  Finanzen.\n\nEin Angebot der jungen Plattform der
  Nachhaltigkeitsstrategie BW im Rahmen der PULSE OF PLANET-Reihe.
LOCATION:Raupe Immersatt\, Johannesstraße 97\, Stuttgart
GEO:48.782018;9.1579717
ORGANIZER:mailto:Wir ernten was wir säen
END:VEVENT
END:VCALENDAR
