BEGIN:VCALENDAR
VERSION:2.0
PRODID:eintopf.info
METHOD:REQUEST
BEGIN:VEVENT
UID:73254cd0-5378-4aa5-b87e-ccb8ddca9ccc
SUMMARY:Queer Finance Community Talk
DTSTART:20251209T180000Z
URL:https://eintopf.info/event/73254cd0-5378-4aa5-b87e-ccb8ddca9ccc
DTEND:20251209T193000Z
CATEGORIES:Offenes Treffen\,Sonstiges
DESCRIPTION:Ein offener Austausch über Geld und finanzielle
  Selbstbestimmung für FLINTA* & Queers in Stuttgart. \nWertfrei\,
  gemeinnützig\, kostenlos.\n\n\nFinanzen sind oft ein Tabuthema –
  besonders in der queeren Community. Hiermit soll ein niedrigschwelliger
  und sicherer Raum geschaffen werden\, in dem FLINTA* und Queers offen und
  ehrlich über ihre finanziellen Herausforderungen sprechen können.
  Egal\, ob du am Anfang stehst oder schon tiefer in der Materie bist: hier
  geht es um gegenseitigen Support und eine unabhängige\, qualifizierte
  Vermittlung von Finanzwissen.\n\nDieser Austausch wird initiiert und
  moderiert von Sandra Grösch (Gründerin von Die Queere Finanzberatung)
  als Safe Space zur Förderung der finanziellen Sicherheit und
  Selbstbestimmung in der LGBTQIA+-Community.\n\nBitte beachte: Dies ist
  keine individuelle Beratung\, sondern eine offene und nonkommerzielle
  Gesprächsrunde.\n\nDie Plätze sind begrenzt! Sichere dir jetzt dein
  kostenloses Ticket über
  https://www.eventbrite.de/e/queer-finance-community-talk-tickets-17422593
 47609
LOCATION:Café der Weissenburg - Zentrum LSBTIQA+ Stuttgart\,
  Weißenburgstraße 28 A\, 70180 Stuttgart
GEO:48.7675827;9.1781999
ORGANIZER:mailto:Sandra Grösch (Die Queere Finanzberatung)
END:VEVENT
END:VCALENDAR
