BEGIN:VCALENDAR
VERSION:2.0
PRODID:eintopf.info
METHOD:REQUEST
BEGIN:VEVENT
UID:71cfbd2d-11a9-4d89-91c8-addb52fc5a68
SUMMARY:44. Umsonst & Draußen Festival Abbau Tag 1 Helfer*innen
  willkommen!
DTSTART:20250811T070000Z
URL:https://eintopf.info/event/71cfbd2d-11a9-4d89-91c8-addb52fc5a68
DTEND:20250811T200000Z
CATEGORIES:Offenes Treffen\,Sonstiges
DESCRIPTION:44. Umsonst & Draußen Festival Stuttgart\n\nAbbau - Tag 1 +
  Helfer*innen - Essen\n\nHelfende Hände und Köpfe sehr Willkommen!
LOCATION:Festplatz Krehlstraße\, Stuttgart-Vaihingen\, Krehlstraße
  Stuttgart-Vaihingen\, liegt zwischen Stgt.-Vaihingen und Stgt.-Rohr
GEO:48.72305;9.10201
ORGANIZER:mailto:Umsonst & Draußen Stuttgart
END:VEVENT
END:VCALENDAR
