BEGIN:VCALENDAR
VERSION:2.0
PRODID:eintopf.info
METHOD:REQUEST
BEGIN:VEVENT
UID:7162f9a0-0f0c-4037-a98f-3eb2a90167d8
SUMMARY:Umsonst & Draußen - offenes Plenum
DTSTART:20251015T180000Z
URL:https://eintopf.info/event/7162f9a0-0f0c-4037-a98f-3eb2a90167d8
DTEND:20251015T200000Z
CATEGORIES:Offenes Treffen\,Vergesellschaftung
DESCRIPTION:Nächstes Jahr wird es hoffentlich mit deiner Hilfe vom 7. bis
  9. August das 45. U&D -Festival auf dem Festplatz an der Krehlstraße
  geben.\n\n- Platzaufteilung 45.U&D\n\n- Planung Helfer*innenfest\n\n-
  Planung Klausurtag\n\n- Thema Forum\n\n- Bands - Berichte von
  Konzerten\n\nJetzt ist die Zeit\, uns grundsätzliche Gedanken zum 45.
  U&D zu machen\, bevor dann die konkreten Vorbereitungen beginnen und für
  Grundsätzliches keine Zeit mehr ist. Was soll bleiben\, was kann besser
  werden\, gibt es neue Vorschläge\, Ideen\, Kooperationen? Welcher
  Themenschwerpunkt soll auf dem Forum beleuchtet werden. Nicht zuletzt:
  was wird das Motiv des 45. U&D sein\, wie soll das Plakat aussehen?
  Hiermit ist der Plakatwettbewerb für das 45. U&D eröffnet. Alle
  Kreativen sind aufgerufen\, daran teilzunehmen und uns bis Anfang Februar
  ihre Vorschläge zu schicken.\n\nUnsere Orga heißt „Plenum„. Wir
  treffen uns das ganze Jahr über\, um das U&D vorzubereiten. Im Herbst
  und Winter in längeren Abständen\, im Frühling öfter und vor dem U&D
  wöchentlich.\n\nZum Plenum kann jede*r kommen\, mitreden\, vorschlagen\,
  mitentscheiden.\n\nUnser Festival lebt von den Ideen\, die im Plenum
  einfließen und gemeinsam weiterentwickelt werden. Der kreative Teil des
  Umsonst & Draußen findet das ganze Jahr über statt: Konzerte besuchen\,
  spannende kulturelle Highlights entdecken und auswählen\, Kontakte zu
  anderen zivilgesellschaftlichen und kulturellen Initiativen pflegen\,
  Gedankenaustausch darüber\, was gut gelaufen ist und was noch verbessert
  werden kann.
LOCATION:Naturfreundehaus Steinbergle\, Stresemannstr. 6\, 70191 Stuttgart
GEO:48.80251805;9.17404080102299
ORGANIZER:mailto:Umsonst & Draußen Stuttgart
END:VEVENT
END:VCALENDAR
