BEGIN:VCALENDAR
VERSION:2.0
PRODID:eintopf.info
METHOD:REQUEST
BEGIN:VEVENT
UID:70a276ef-ed52-469d-a179-dec64f4db414
SUMMARY:Irie Sunday
DTSTART:20251102T180000Z
URL:https://eintopf.info/event/70a276ef-ed52-469d-a179-dec64f4db414
DTEND:20251102T220000Z
CATEGORIES:Konzert & Party\,Sonstiges
DESCRIPTION:Der Irie Sunday ist eine multigenerationale Reggae- und
  Dancehall-Partyreihe\, organisiert von Lucky Punch Soundsystem. Die Musik
  reicht von Roots Reggae über Dancehall bis hin zu Afrobeat. Der Irie
  Sunday fand seit 2003 jeden Sonntag statt und hat seinen Ursprung im
  Landespavillon\, der leider abgerissen wurde. Heute wird die Tradition im
  Sunny High fortgeführt. Reggae\, Afrobeats und mehr.\n\n@luckypunchcrew
  @djafropunk\n\nKommt vorbei\, bringt eure Freunde & Fam und erlebt einen
  entspannten Tag voller Musik\, Begegnung und guter Stimmung. One Love!
LOCATION:Sunny High Club\, Bahnhofstr. 14\, 70372 Stuttgart
GEO:48.8025406;9.2170963
ORGANIZER:mailto:Luck Punch Soundsystem,DJ Afropunk,Sunny High Club
END:VEVENT
END:VCALENDAR
