BEGIN:VCALENDAR
VERSION:2.0
PRODID:eintopf.info
METHOD:REQUEST
BEGIN:VEVENT
UID:708758c5-d287-4d4c-98fc-afb39c0b649b
SUMMARY:Film: "Der laute Frühling"
DTSTART:20221227T180000Z
URL:https://eintopf.info/event/708758c5-d287-4d4c-98fc-afb39c0b649b
DESCRIPTION:Seit Beginn der UN-Klimakonferenzen im Jahr 1992 sind die
  jährlichen CO2-Emissionen nicht zurückgegangen. Vielmehr haben sie um
  über 60 % zugenommen. - Warum?\nUnd vor allem: Wie können wir den
  Klimawandel aufhalten?\n\nIn der globalen Klimabewegung setzt sich mehr
  und mehr die Erkenntnis durch\, dass es so nicht weitergehen kann und
  dass wir einen Systemwechsel brauchen.\nIn "Der laute Frühling" schauen
  wir mit Hilfe von animierten Sequenzen in die Zukunft und beschreiben\,
  wie jene tiefgreifende gesellschaftliche Transformation\, die wir
  brauchen\, aussehen
  könnte.\nhttps://de.labournet.tv/project/der-laute-fruehling
LOCATION:Linkes Zentrum Lilo Herrmann\, Böblinger Straße 105\, 70199
  Stuttgart
GEO:48.7618266;9.1567994
END:VEVENT
END:VCALENDAR
