BEGIN:VCALENDAR
VERSION:2.0
PRODID:eintopf.info
METHOD:REQUEST
BEGIN:VEVENT
UID:6f9beddb-8264-43e9-af7b-ccca6ca7b2a6
SUMMARY:QUEER GAME NIGHT
DTSTART:20241128T170000Z
URL:https://eintopf.info/event/6f9beddb-8264-43e9-af7b-ccca6ca7b2a6
CATEGORIES:Gesellig\,Queer
DESCRIPTION:🎲✨Queer Game Night Alert!✨🎲\n\nAm 28.11. wird der
  UTOPIA Kiosk zum Spielfeld für alle queeren Gaming-Fans
  🏳️‍🌈💖 Ob Klassiker oder deine eigenen Lieblingsspiele –
  bring mit\, worauf du Lust hast\, oder stöbere in unserer Auswahl vor
  Ort! Von Karten bis Würfel\, Strategie bis Party-Games: Hier ist für
  jede*n was dabei. Komm vorbei und lass uns gemeinsam eine spielerische
  Nacht voller Spaß\, Austausch und guter Laune verbringen!\n\n📅 Wann?
  14.11. ab 19 Uhr\n📍 Wo? UTOPIA Kiosk\n🎮 Bring your own game oder
  entdecke Neues bei uns!
LOCATION:UTOPIA Kiosk\, Lazarettstraße 5\, 70182 Stuttgart
GEO:48.7730256;9.18134848847793
ORGANIZER:mailto:UTOPIA Kiosk
END:VEVENT
END:VCALENDAR
