BEGIN:VCALENDAR
VERSION:2.0
PRODID:eintopf.info
METHOD:REQUEST
BEGIN:VEVENT
UID:6f461204-9337-42ad-9173-fab0f3af8723
SUMMARY:Online-Treff zur aktuellen Entwicklung in Syrien und Rojava
  (Syrien)
DTSTART:20241220T170000Z
URL:https://eintopf.info/event/6f461204-9337-42ad-9173-fab0f3af8723
CATEGORIES:Vortrag\,Sonstiges
DESCRIPTION:Online: Freitag 18:30 bis 20 Uhr\n \nIngo Speidel zu den
  letzten 7 Tagen. Im Anschluss Diskussion.\n\nAnmeldung:
  ak.zur.kurdischen.revolution@gmail.com\n\nIngo Speidel veröffentlicht
  seiit 7 Jahren das wöchentliche "Info zur Kurdischen Revolution".\nMit
  der Absicht\, den revolutionären Prozess in Rojava (und darüber hinaus)
  zeitgleich zu verfolgen\,\nund zwar in der Regel mit Original-Texten (ins
  Deutsche überseetzt).\n \nEmpfehlungen von uns:\n\nDominic Johnson:
  Freut Euch über Syrien
  https://taz.de/Sturz-des-Assad-Regimes/16054210/\n\nInterview mit Kristin
  Helberg im forum "jung und naiv" Folge 742 zur Syrischen
  Revolution:\n\nhttps://www.youtube.com/watch?v=tdq1Cz-730k&pp=ygVCS3Jpc3R
 pbiBIZWxiZXJnICJqdW5nIHVuZCBuYWl2IiBGb2xnZSA3NDIgenVyIFN5cmlzY2hlbiBSZXZvb
 HV0aW9u\n(Das Interview dauert zweieinhalb Stunden - aber jede Minute
  davon ist ein Gewinn. Versprochen!)\n 
LOCATION:Online\, Link per Anmeldung:
  ak.zur.kurdischen.revolution@gmail.com
ORGANIZER:mailto:Arbeitskreis zur kurdischen Revolution
END:VEVENT
END:VCALENDAR
