BEGIN:VCALENDAR
VERSION:2.0
PRODID:eintopf.info
METHOD:REQUEST
BEGIN:VEVENT
UID:6ef31722-acca-4583-95f7-9e1583fe9185
SUMMARY:Queer Karaoke Night
DTSTART:20251024T180000Z
URL:https://eintopf.info/event/6ef31722-acca-4583-95f7-9e1583fe9185
CATEGORIES:Konzert & Party\,Queer
DESCRIPTION:Queere Karaoke-Night im UTOPIA Kiosk! \n\nOb Pop-Diva\,
  Rock-Ikone oder 90s Trash – bei unserer queeren Karaoke-Night ist alles
  erlaubt! Schnapp dir das Mikro\, singe deine Lieblingshits oder feiere
  einfach mit einer Crowd\, die jeden schiefen Ton mit Applaus feiert.
  💖🎶\n\nDer UTOPIA Kiosk wird zur Bühne für alle Stimmen\, alle
  Identitäten und alle\, die Lust auf eine unvergessliche Nacht voller
  Musik\, Glitzer und Community haben. Komm vorbei\, trink ein kühles
  Getränk und lass dich von der queeren Karaoke-Magie mitreißen!
  🌟\n\n🎶 No shame\, just fame! 🎶\n\n
LOCATION:UTOPIA Kiosk\, Lazarettstraße 5\, 70182 Stuttgart
GEO:48.7730256;9.18134848847793
ORGANIZER:mailto:UTOPIA Kiosk
END:VEVENT
END:VCALENDAR
