BEGIN:VCALENDAR
VERSION:2.0
PRODID:eintopf.info
METHOD:REQUEST
BEGIN:VEVENT
UID:6e4bfdc7-8324-4eff-b77c-f50ac6972eb8
SUMMARY:Autos zu Straßenbahnen: Konversion als Baustein klimagerechter
  Mobilität für Alle
DTSTART:20251121T183000Z
URL:https://eintopf.info/event/6e4bfdc7-8324-4eff-b77c-f50ac6972eb8
DTEND:20251121T203000Z
CATEGORIES:Vortrag\,Politische Ökonomie
DESCRIPTION:Die Mobilitätswende ist ein entscheidender Baustein zur
  Einhegung der Klimakatastrophe – immerhin ist der Verkehr der einzige
  Sektor\, in dem seit 1990 die Emissionen europaweit sogar gestiegen sind.
  Dabei fehlt es weniger an Konzepten zur Gestaltung sozialökologisch
  tragfähiger Mobilität\, sondern an der Umsetzung. Im deutschen Kontext
  wird ein autoabhängiges Mobilitätssystem insbesondere mit Verweis auf
  die heimische Autoindustrie und die daran hängenden Arbeitsplätze
  verteidigt. Was dabei jedoch untergeht: Allein der Umstieg auf E-Autos
  kostet voraussichtlich mindestens 25% der Stellen im Sektor und die
  jüngsten Krisen bei VW und Anderen machen einmal mehr deutlich\, dass
  die vermeintlich sicheren Arbeitsplätze in der Industrie Vergangenheit
  sind. Wie kann also ein sozialökologischer Umbau des Sektors aussehen
  und inwiefern gibt es Ansatzpunkte für Allianzen zwischen
  Klimagerechtigkeitsbewegung und Beschäftigten im Sektor?\nIn der Keynote
  werden wir uns zunächst einen Überblick über die  politische Ökonomie
  der Autoindustrie und ihrem Gewicht im deutschen Modell des Kapitalismus
  verschaffen\, bevor wir uns aktuellen Krisen im Sektor widmen-
  insbesondere dem Versuch\, von Schließung bedrohte Werke auf
  Militärproduktion umzurüsten. Wie könnte eine Linke\, klimagerechte
  Antwort in diesem Kontext aussehen? Hier kommt demokratische Konversion\,
  also demokratisch koordinierter Produktionsumbau nach sozialökologischen
  Kriterien\, ins Spiel. Wir werden uns zunächst anschauen\, warum
  demokratische Konversion sowohl für die Klimagerechtigkeitsbewegung als
  auch Beschäftigte im Sektor Anknüpfungspunkte bietet\, wo Potentiale
  für Bündnisse liegen\, aber auch welche Hürden praktisch zu
  überwinden sind\, damit Konversionsprojekte politisches Gewicht im Sinne
  einer revolutionären Realpolitik entwickeln können.\n\nMit freundlicher
  Unterstützung der Rosa Luxemburg Stiftung Baden-Württemberg
LOCATION:Prisma\, Bahnhofstraße 14-18\, 70372 Stuttgart
GEO:48.8024492;9.2171569
ORGANIZER:mailto:Kesselbambule
END:VEVENT
END:VCALENDAR
