BEGIN:VCALENDAR
VERSION:2.0
PRODID:eintopf.info
METHOD:REQUEST
BEGIN:VEVENT
UID:6a6406cf-7300-4a2c-b98f-db9498e59b29
SUMMARY:Umsonst & Draußen - offenes Plenum
DTSTART:20250521T180000Z
URL:https://eintopf.info/event/6a6406cf-7300-4a2c-b98f-db9498e59b29
DTEND:20250521T200000Z
CATEGORIES:Offenes Treffen\,Sonstiges
DESCRIPTION:Hier wird das im 1. Programmplenum gemeinsam zusammengestellte
  Bühnenprogramm ergänzt und entgültig beschlossen.
LOCATION:Naturfreundehaus Steinbergle\, Stresemannstr. 6\, 70191 Stuttgart
GEO:48.80251805;9.17404080102299
ORGANIZER:mailto:Umsonst & Draußen Stuttgart
END:VEVENT
END:VCALENDAR
