BEGIN:VCALENDAR
VERSION:2.0
PRODID:eintopf.info
METHOD:REQUEST
BEGIN:VEVENT
UID:696055b2-f49f-4fd9-b429-7845b378b73d
SUMMARY: Klimapolitik\, Demokratie und Bürger*innenräte
DTSTART:20210724T083000Z
URL:https://eintopf.info/event/696055b2-f49f-4fd9-b429-7845b378b73d
DTEND:20210724T100000Z
DESCRIPTION:\nDie Klimakrise stellt die Demokratie vor eine besondere
  Herausforderung: Es muss schnell und umfassend gehandelt werden. Doch wie
  können wir dabei alle abholen? Wie alles beachten? Wie alle
  Lebensrealitäten anhören und einbeziehen? Die lokale Initiative
  Bürger*innenrat Klima Stuttgart wird das Prinzip los-basierter Räte
  vorstellen\, erzählen wie es dabei in Stuttgart so läuft und die Rolle
  von Bürger*innenräten als mögliches Instrument in der Klimapolitik
  diskutieren.
LOCATION:Klimacamp Stuttgart 2021\, Zelt-Emma
ORGANIZER:mailto:Kesselbambule,Büreger*innenrat Stuttgart Klima
END:VEVENT
END:VCALENDAR
