BEGIN:VCALENDAR
VERSION:2.0
PRODID:eintopf.info
METHOD:REQUEST
BEGIN:VEVENT
UID:68dbe80d-0a5f-4188-887e-c1c30ebf8162
SUMMARY:Konzert: Cosey Müller live
DTSTART:20251009T180000Z
URL:https://eintopf.info/event/68dbe80d-0a5f-4188-887e-c1c30ebf8162
CATEGORIES:Konzert & Party\,Sonstiges
DESCRIPTION:Gemeinsam mit No Shows präsentieren wir am 09.10.2025 das
  Konzert von @coseymueller & @bleak.monday im Sunny High Club
  Stuttgart.\n\nCosey Mueller: Die Musikerin lebt und arbeitet derzeit in
  Berlin. Nach einigen u.a. mit dem Synthpunk-Duos DAS DAS oder der
  Hardcore-/Experimental-Gruppe Glaas (Static Shock) veröffentlichte sie
  vor wenigen Jahren ihr Solo-Synthwave-Projekt Cosey Mueller. Ihre Musik
  zeichnet sich durch repetitive Synthesizer-Melodien\, explosive Beats\,
  ausdrucksstarken Gesang und einen spielerischen Umgang mit Sprache aus.
  Es lässt einen in eine andere Zeit reisen. Ein pulsierendes\, flirrendes
  und tanzbares Live-Erlebnis.\n\nBleak Monday:\nSynthwave // Industrial
  Formation aus Karlsruhe. Das Trio ist inspiriert von der Soundästhetik
  der 80er Wave-Musik sowie Industrial und schafft mit Drumcomputer\,
  analogen Synths und Gitarre eine düstere\, dystopische Atmosphäre.
LOCATION:Sunny High Club\, Bahnhofstr. 14\, 70372 Stuttgart
GEO:48.8025406;9.2170963
ORGANIZER:mailto:Sunny High
END:VEVENT
END:VCALENDAR
