BEGIN:VCALENDAR
VERSION:2.0
PRODID:eintopf.info
METHOD:REQUEST
BEGIN:VEVENT
UID:67897940-33d3-4edb-9d23-6ca8fee15257
SUMMARY:Queer Flea Market
DTSTART:20250511T110000Z
URL:https://eintopf.info/event/67897940-33d3-4edb-9d23-6ca8fee15257
CATEGORIES:Sonstiges\,Queer
DESCRIPTION:🧤 Queer & Cozy Flea Market\n📅 Sunday\, May 11 | 13h |
  UTOPIA Kiosk\n\nOur flea market is back — with secondhand fashion\,
  handmade art\, zines\, vintage gems and more! Swing by\, support local
  creatives\, and enjoy some good drinks and chill vibes.\n\nThis edition
  is in collaboration with Black Owned Businesses Stuttgart and Urban
  Souls.\n\nC u there!
LOCATION:UTOPIA Kiosk\, Lazarettstraße 5\, 70182 Stuttgart
GEO:48.7730256;9.18134848847793
ORGANIZER:mailto:UTOPIA Kiosk
END:VEVENT
END:VCALENDAR
