BEGIN:VCALENDAR
VERSION:2.0
PRODID:eintopf.info
METHOD:REQUEST
BEGIN:VEVENT
UID:6786f8b4-9376-453e-8727-696f27a63695
SUMMARY:Sommertagung vom Flüchtlingsrat BW
DTSTART:20240713T080000Z
URL:https://eintopf.info/event/6786f8b4-9376-453e-8727-696f27a63695
DTEND:20240713T150000Z
CATEGORIES:Vortrag\,Sonstiges
DESCRIPTION:Herzliche Einladung zur Sommertag am Samstag\, den 13. Juli
  2024\, in Stuttgart. Wir haben ein äußerst spannendes und vielfältiges
  Programm auf die Beine gestellt. Im Hauptvortrag geht es um die
  lebensrettende Arbeit von Alarm Phone. In zwei Themenphasen können Sie
  wählen zwischen Familiennachzug\, Abschiebungen in den Irak\, familiäre
  Rollen und Umgang mit Hate Speech. Dazwischen wird es ausreichend
  Möglichkeiten zur Vernetzung und zum Austausch geben.\n\nDie Tagung ist
  kostenlos und richtet sich in erster Linie an Ehrenamtliche in der
  Geflüchtetenarbeit.\n\nFür weitere Infos und zur Anmeldung bitte hier
  entlang:
  https://fluechtlingsrat-bw.de/aktuelle-veranstaltungen/sommertagung-2024/
LOCATION:Bürgerräume Stuttgart-West\, Bebelstrasse 22\, 70193 Stuttgart
ORGANIZER:mailto:Flüchtlingsrat Baden-Württemberg
END:VEVENT
END:VCALENDAR
