BEGIN:VCALENDAR
VERSION:2.0
PRODID:eintopf.info
METHOD:REQUEST
BEGIN:VEVENT
UID:6734e9bb-a272-401b-9894-f0fca213d780
SUMMARY:SoLaWiS-Hofeinsatz am Reyerhof
DTSTART:20241019T080000Z
URL:https://eintopf.info/event/6734e9bb-a272-401b-9894-f0fca213d780
DTEND:20241019T110000Z
CATEGORIES:Sonstiges\,Ernährung
DESCRIPTION:Bei den Hofeinsätzen von SoLaWiS gehen Mitglieder und alle
  Interessierte mit auf dem Acker\, ziehen Beikräuter\, ernten oder
  bereiten die Verteilung vor. Wetterangepasste Kleidung und jetzt in der
  nassen Jahreszeit eventuell auch Gummistiefel sind zu empfehlen. Für
  viele von uns ist das eine Möglichkeit\, mal aus dem städtischen Alltag
  raus zukommen und handfest mitanzupacken bei der Arbeit auf dem
  Bauernhof. Aber es ist natürlich auch eine Gelegenheit andere Mitglieder
  kennenzulernen oder mehr über die Ideen hinter SoLaWiS zu erfahren\, die
  auf eine Ökonomie jenseits des Markts zielen.
LOCATION:Reyerhof\, Unteraicher Str. 8\, 70567 Stuttgart
GEO:48.7244278;9.144928017131475
ORGANIZER:mailto:Solidarische Landwirtschaft Stuttgart
END:VEVENT
END:VCALENDAR
