BEGIN:VCALENDAR
VERSION:2.0
PRODID:eintopf.info
METHOD:REQUEST
BEGIN:VEVENT
UID:65f0bee5-405e-4540-9561-245b70bc5d66
SUMMARY:Mayor for Peace  Kundgebung  zum Flaggentag
DTSTART:20230707T104500Z
URL:https://eintopf.info/event/65f0bee5-405e-4540-9561-245b70bc5d66
DESCRIPTION:Kundgebung zum Flaggentag am Freitag\, den 7. Juli ab 12.45
  Uhr:\nhttps://bawue.dfg-vk.de/flaggentag-der-mayors-for-peace/\nhttps://w
 ww.friedenskooperative.de/themen/flaggentag-mayors-for-peace\n\nVor 27
  Jahren\, am 8. Juli 1996 stellte der Internationale Gerichtshof in Den
  Haag fest\, dass die Androhung des Einsatzes und der Einsatz von
  Atomwaffen generell gegen das Völkerrecht verstoßen. Zudem stellte der
  Gerichtshof fest\, dass eine völkerrechtliche Verpflichtung besteht\,
  „in redlicher Absicht Verhandlungen zu führen und zum Abschluss zu
  bringen\, die zu nuklearer Abrüstung in allen ihren Aspekten unter
  strikter und wirksamer internationaler Kontrolle führen.“\n\nUm daran
  zu erinnern und nukleare Abrüstung einzufordern\, werden an rund 500
  Rathäusern in Deutschland von den „Bürgermeistern für den Frieden“
  die Mayors for Peace – Flaggen gehisst.\n\n \n\nIn Folge des Angriffs
  Russlands auf die Ukraine und der sich seitdem permanent zuspitzende
  Konfrontation zwischen den Nuklearmächten Russland und der NATO hat sich
  die Gefahr eines Atomkrieges in Europa massiv erhöht. Zwischenzeitlich
  wurden analog zur westlichen „Nuklearen Teilhabe“ russische
  Atomwaffen in Belarus stationiert. Die in Büchel gelagerten
  US-Atombomben werden „modernisiert“ und somit tödlicher. Die
  Bundesregierung hat neue F35-Tarnkappenbomber bestellt\, mit denen im
  Kriegsfall die Atombomben durch deutsche Piloten über Russland
  abgeworfen werden sollen.\n\nAm 7. Juli 2017 wurde der
  Atomwaffenverbotsvertrag in der UN-Generalversammlung mit 122 Staaten und
  damit von der überwiegenden Mehrheit der Staaten angenommen. Die
  Atommächte haben den Vertrag nicht unterzeichnet\, und auch Deutschland
  ist dem Verbotsvertrag bislang nicht beigetreten. Weltweit appellieren
  die Mayors for Peace daher an die Staaten\, den Atomwaffenverbotsvertrag
  zu unterzeichnen.\n\n\nIn Stuttgart findet die Veranstaltung der Stadt
  Stuttgart vor dem Stuttgarter Rathaus statt. Die Stuttgarter
  Friedensbewegung ist auch wieder zur Teilnahme eingeladen.\n\n\n    12.45
  Uhr           Treffen\n    13.00 Uhr           Grußwort Frau
  Bürgermeisterin Dr. Sußmann\n\nMusik von Sascha
  Santorineos\n\nAufziehen der „Mayors for Peace“ – Flagge am
  Rathausbalkon\n\nRedebeitrag Dr. Jörg Schmid (IPPNW) für die
  Stuttgarter Friedensbewegung\nMusik von Sascha Santorineos\n\n\nDie Stadt
  Stuttgart hat 2020 den ICAN-Städteappell unterschrieben und damit die
  Bundesregierung aufgefordert\, dem UN-Atomwaffenverbotsvertrag
  beizutreten. Die Friedensbewegung schließt sich dem an und fordert
  darüber hinaus die Kündigung der deutschen „Nuklearen Teilhabe“ und
  den ersatzlosen Abzug aller Atomwaffen aus Deutschland. Eine weitere
  kurzfristige Forderung besteht in der allseitigen Erklärung des
  Ausschlusses eines Ersteinsatzes von Atomwaffen (no first use)\, was
  bisher nur durch China geschehen ist.
LOCATION:Rathaus Stuttgart
ORGANIZER:mailto:IPPNW,Netzwerk Friedenskooperative,DFG-VK BW
END:VEVENT
END:VCALENDAR
