BEGIN:VCALENDAR
VERSION:2.0
PRODID:eintopf.info
METHOD:REQUEST
BEGIN:VEVENT
UID:65bb294c-5416-4b9b-ac2b-f87073b00be5
SUMMARY:Stitch'n'B!tch
DTSTART:20250928T130000Z
URL:https://eintopf.info/event/65bb294c-5416-4b9b-ac2b-f87073b00be5
CATEGORIES:DIY\,Queer
DESCRIPTION:Deutsch unten\nJoin our queer Stitch’n’Bitch ⋆｡‧˚
  ✄ ⚢ ✄ ˚‧｡⋆ at UTOPIA Kiosk! Bring your crochet\, knitting\,
  sewing or any creative project you’re working on and spend a relaxed
  evening making\, chatting\, and connecting in community. Hot drinks will
  be available at the kiosk to keep you warm while we stitch\, swap
  stories\, and share skills. All craft levels are welcome — come as you
  are and create with us.\n\nKomm zu unserem queeren Stitch’n’Bitch
  ⋆｡‧˚ ✄ ⚢ ✄ ˚‧｡⋆ im UTOPIA Kiosk! Bring dein Häkel-\,
  Strick-\, Näh- oder jedes andere kreative Projekt mit und verbringe
  einen entspannten Abend voller Handarbeit\, Gespräche und Gemeinschaft.
  Heiße Getränke bekommst du im Kiosk\, damit es schön gemütlich
  bleibt\, während wir nähen\, Geschichten teilen und voneinander lernen.
  Alle Erfahrungsstufen sind willkommen – komm einfach vorbei und mach
  mit.\n
LOCATION:UTOPIA Kiosk\, Lazarettstraße 5\, 70182 Stuttgart
GEO:48.7730256;9.18134848847793
ORGANIZER:mailto:UTOPIA Kiosk
END:VEVENT
END:VCALENDAR
