BEGIN:VCALENDAR
VERSION:2.0
PRODID:eintopf.info
METHOD:REQUEST
BEGIN:VEVENT
UID:653593f4-e8cf-45a9-9bd1-e1e8882ccc4d
SUMMARY:Einfach selbst bestimmt – Texte zur Lebensrealität jenseits der
  Geschlechternormen – Lesung mit Janka Kluge
DTSTART:20250213T183000Z
URL:https://eintopf.info/event/653593f4-e8cf-45a9-9bd1-e1e8882ccc4d
CATEGORIES:Sonstiges\,Queer
DESCRIPTION:Es reichen heute fünf Buchstaben und ein Sternchen\, um auf
  eine hitzig geführte Debatte zu verweisen: trans*. Dass trans* nicht
  einfach ein »kontroverses Thema«\, sondern die Lebensrealität
  zahlreicher Menschen ist\, wird dabei leicht übersehen.\n\nSeit langer
  Zeit sind trans* Personen in unserer Gesellschaft psychischer\,
  körperlicher und struktureller Gewalt ausgesetzt. Der unbedingt nötige
  Abbau dieser Diskriminierungen wird in den letzten Jahren öffentlich
  diskutiert\, und\, etwa durch das geplante Selbstbestimmungsgesetz\,
  sogar konkret in Angriff genommen. Diese gesellschaftlichen und
  politischen Prozesse führen zu Fragen\, Kritik und Gegenwehr.\n\nUmso
  wichtiger ist Aufklärung: Dieses Buch enthält 20 Texte\, von
  Aktivist*innen\, Psycholog*innen\, Wissenschaftler*innen und
  Betroffenen\, deren Stärke darin liegt\, dass sie ein differenziertes\,
  unaufgeregtes Bild dessen entwerfen\, was ein Leben jenseits der
  Geschlechternormen ist.\n\nJanka Kluge\, geboren 1959 in Stuttgart als
  vermeintlicher Junge. 1981 rettete ihr die Einführung des
  Transsexuellengesetzes das Leben\, bald darauf gründete sie eine der
  ersten Selbsthilfegruppen des Landes. Sie arbeitet als Journalistin und
  Redakteurin für verschiedene Medien\, hält Vorträge zum Thema trans*
  und ist im Vorstand der Deutschen Gesellschaft für Transidentität und
  Intersexualität (dgti
  e.V.).\n\nhttps://janka-kluge.de/\nhttps://www.instagram.com/klugejanka/\
 n\n \n\nHinweis: Die Mittel zu dieser Veranstaltung stammen aus dem
  baden-württembergischen Staatshaushalt\, den der Landtag von
  Baden-Württemberg beschlossen hat.
LOCATION:Demokratisches Zentrum Ludwigsburg (DemoZ)\,  Wilhelmstr. 45/1
  71638 Ludwigsburg 
GEO:48.89585;9.18429
ORGANIZER:mailto:Demokratisches Zentrum Ludwigsburg (DemoZ)
END:VEVENT
END:VCALENDAR
