BEGIN:VCALENDAR
VERSION:2.0
PRODID:eintopf.info
METHOD:REQUEST
BEGIN:VEVENT
UID:63dc2d9b-7e2b-436b-944f-00201ae3af4d
SUMMARY:Rück`n Roll
DTSTART:20260315T130000Z
URL:https://eintopf.info/event/63dc2d9b-7e2b-436b-944f-00201ae3af4d
CATEGORIES:Workshop\,Gesundheit
DESCRIPTION:Dem Tag der Rückengesundheit ist dieses Jahr der Begriff
  Rück`n Roll gewidmet.\nWeil ich ein kreativer Mensch bin und das Tanzen
  nicht nur auf Rock beschränken will\, widme ich persönlich diesem Tag
  dem Hupfball und dem Auf und Ab. Warum? - Weil ich davon überzeugt bin\,
  dass jeder Mensch zu einem gewissen Grad die Richtung die er oder sie
  einschlägt in der Hand hat\, Bewusst Sein ist trainierbar. \nDu
  möchtest etwas für deine Rückengesundheit tun? Sicherheit
  verspüren?\nDann sag` mir bescheid! \n\nZwischen 14-16 Uhr ist Zeit für
  neue Impulse - für jedes Alter.\n\nEs geht den Berg hoch und wieder
  runter\, falls du nicht gut zu Fuß bist\, lass uns einen anderen Termin
  finden. \n\nKostenlos\, aber nicht umsonst. \n\nAnmeldung bis
  Freitagabend möglich via Mail an: kontakt@gesundheitstrainerin.eu \nLina
  Neubeck
LOCATION:Outdoor\, 70180 Stuttgart\, Bopserbrünnle\, Stuttgart-Mitte
END:VEVENT
END:VCALENDAR
