BEGIN:VCALENDAR
VERSION:2.0
PRODID:eintopf.info
METHOD:REQUEST
BEGIN:VEVENT
UID:614fa15c-266b-4d88-b456-33d8dada6e80
SUMMARY:1. Mai Veranstaltung im Clara-Zetkin-Haus mit dem Freien Chor
  Stuttgart
DTSTART:20260501T130000Z
URL:https://eintopf.info/event/614fa15c-266b-4d88-b456-33d8dada6e80
CATEGORIES:Sonstiges\,Antifaschismus
DESCRIPTION:Den Freien Chor Stuttgart\, ein links-sentimentales
  Gesangsprojekt\, gibt es nun schon seit 33 Jahren. Im Programm haben wir
  Lieder zu verschiedenen Themen wie Solidarität\, Widerstand\,
  Herrschaft\, Emanzipation aber auch Lieder zu Freude\, Liebe\, Poesie\,
  Alltag und Kulturkritik. Wir begleiten politische Prozesse\, mischen mit
  und auf...\n\nUnser reiches Repertoire reicht von Rio Reiser\, Coldplay
  bis zurück ins 16. Jahrhundert: Thomas Morley oder John
  Dowland.\n\nSangeswillige können gerne mal vorbeischnuppern. Schickt
  einfach eine Mail an info@freier-chor.de
LOCATION:Sillenbuch\, Gorch-Fock-Straße 26\, 70619 Stuttgart
GEO:48.7453893;9.2048639
ORGANIZER:mailto:Clara Zetkin-Haus
END:VEVENT
END:VCALENDAR
