BEGIN:VCALENDAR
VERSION:2.0
PRODID:eintopf.info
METHOD:REQUEST
BEGIN:VEVENT
UID:61395008-cd15-4427-899f-5d901d1f80ed
SUMMARY:SoLaWiS Hofeinsatz auf dem Reyerhof
DTSTART:20260718T073000Z
URL:https://eintopf.info/event/61395008-cd15-4427-899f-5d901d1f80ed
DTEND:20260718T103000Z
CATEGORIES:DIY\,Ernährung
DESCRIPTION:
LOCATION:Ort wird kurzfristig bekanntgegeben
ORGANIZER:mailto:Solidarische Landwirtschaft Stuttgart
END:VEVENT
END:VCALENDAR
